BEGIN:VCALENDAR
VERSION:2.0
PRODID:-//First 1000 Days Kansas - ECPv6.15.0//NONSGML v1.0//EN
CALSCALE:GREGORIAN
METHOD:PUBLISH
X-ORIGINAL-URL:https://first1000daysks.org
X-WR-CALDESC:Events for First 1000 Days Kansas
REFRESH-INTERVAL;VALUE=DURATION:PT1H
X-Robots-Tag:noindex
X-PUBLISHED-TTL:PT1H
BEGIN:VTIMEZONE
TZID:UTC
BEGIN:STANDARD
TZOFFSETFROM:+0000
TZOFFSETTO:+0000
TZNAME:UTC
DTSTART:20220101T000000
END:STANDARD
END:VTIMEZONE
BEGIN:VTIMEZONE
TZID:America/Chicago
BEGIN:DAYLIGHT
TZOFFSETFROM:-0600
TZOFFSETTO:-0500
TZNAME:CDT
DTSTART:20220313T080000
END:DAYLIGHT
BEGIN:STANDARD
TZOFFSETFROM:-0500
TZOFFSETTO:-0600
TZNAME:CST
DTSTART:20221106T070000
END:STANDARD
END:VTIMEZONE
BEGIN:VEVENT
DTSTART;TZID=UTC:20230106T090000
DTEND;TZID=UTC:20230106T093000
DTSTAMP:20260424T081531
CREATED:20221205T235935Z
LAST-MODIFIED:20230103T223332Z
UID:463-1672995600-1672997400@first1000daysks.org
SUMMARY:Federal & State Policy Updates
DESCRIPTION:Agenda\n\nFirst 1\,000 Days Kansas Policy Priorities for 2023\nFederal Policy Spotlight: Pregnant Workers Fairness Act and PUMP Act passed! – Sarah Brafman\, A Better Balance\nKansas legislative announcement – Senator Kristen O’Shea\n\nJoin us on the first Friday of every month for a fast-paced\, informative discussion on current health policy issues. \n  \nRegister Here
URL:https://first1000daysks.org/event/federal-state-policy-updates/
LOCATION:KS
END:VEVENT
BEGIN:VEVENT
DTSTART;TZID=UTC:20221202T090000
DTEND;TZID=UTC:20221202T094500
DTSTAMP:20260424T081531
CREATED:20220415T163536Z
LAST-MODIFIED:20221128T223004Z
UID:341-1669971600-1669974300@first1000daysks.org
SUMMARY:First Fridays Policy Round Table
DESCRIPTION:This month we will have a robust\, focused discussion about state Medicaid coverage of doulas and lactation support providers. Special guests include: \n\nMaggie Clark\, Georgetown Center for Children & Families\nTomás Guarnizo\, Georgetown Center for Children & Families\nAmy Chen\, National Health Law Program\nSapphire Garcia-Lies\, Kansas Birth Justice\nHakima Payne\, Uzazi Village\n\nThese Policy Round Tables will occur online on the first Friday of every other month through the end of the year. \n  \nREGISTER HERE
URL:https://first1000daysks.org/event/341/
LOCATION:KS
END:VEVENT
BEGIN:VEVENT
DTSTART;TZID=UTC:20221007T090000
DTEND;TZID=UTC:20221007T094500
DTSTAMP:20260424T081531
CREATED:20220415T163104Z
LAST-MODIFIED:20220926T212514Z
UID:338-1665133200-1665135900@first1000daysks.org
SUMMARY:First Fridays Policy Round Table
DESCRIPTION:This month’s policy discussion will be Paid Family Leave. Hear the latest from experts and join the discussion. \nGuests: \n\nVicki Shabo\, New America\nCassandra Gomez\, A Better Balance\nJake McDonald\, National Partnership for Women & Families\n\nGoals: \n\nTo provide a clear understanding of the importance of paid family leave for families during the first 1\,000 days (pregnancy -> 2nd birthday)\, both economically and physical and mental health\nPathways & barriers to passage on the national level\nStrategies for passing state level\, Colorado as an example\n\nThese Policy Round Tables will occur online on the first Friday of every other month through the end of the year. \n  \nREGISTER HERE
URL:https://first1000daysks.org/event/first-fridays-policy-round-table-3/
LOCATION:KS
END:VEVENT
BEGIN:VEVENT
DTSTART;TZID=UTC:20220805T090000
DTEND;TZID=UTC:20220805T094500
DTSTAMP:20260424T081531
CREATED:20220415T162933Z
LAST-MODIFIED:20220630T214540Z
UID:336-1659690000-1659692700@first1000daysks.org
SUMMARY:First Fridays Policy Round Table
DESCRIPTION:Special Guests: \n\nTina Sherman\, MomsRising\nJessica Lee\, Center for WorkLife Law\n\nThis month’s policy discussion will be the PUMP for Nursing Mothers Act. Hear the latest from experts and join the discussion. \nThese Policy Round Tables will occur online on the first Friday of every other month through the end of the year. \n  \nREGISTER HERE
URL:https://first1000daysks.org/event/first-fridays-policy-round-table-2/
LOCATION:KS
END:VEVENT
BEGIN:VEVENT
DTSTART;TZID=UTC:20220603T090000
DTEND;TZID=UTC:20220603T094500
DTSTAMP:20260424T081531
CREATED:20220415T140407Z
LAST-MODIFIED:20220523T134035Z
UID:334-1654246800-1654249500@first1000daysks.org
SUMMARY:First Fridays Policy Round Table
DESCRIPTION:This month’s policy discussion will be the Pregnant Workers Fairness Act. Hear the latest from experts and join the discussion. \nGuests: \n\nSarah Brafman\, A Better Balance\nFeroza Freeland\, A Better Balance\, Tennessee PWFA\nFrankie Robertson\, Founder and President of The Amandla Group\, Louisiana PWFA\n\nOverview of Pregnant Workers Fairness Act (PWFA)  \nThese Policy Round Tables will occur online on the first Friday of every other month through the end of the year. \n  \nREGISTER HERE
URL:https://first1000daysks.org/event/first-fridays-policy-round-table/
LOCATION:KS
END:VEVENT
BEGIN:VEVENT
DTSTART;TZID=America/Chicago:20220506T090000
DTEND;TZID=America/Chicago:20220506T093000
DTSTAMP:20260424T081531
CREATED:20211231T200852Z
LAST-MODIFIED:20220415T171845Z
UID:245-1651827600-1651829400@first1000daysks.org
SUMMARY:Federal & State First Fridays Policy Updates
DESCRIPTION:We know the first 1\,000 days between a woman’s pregnancy and her child’s second birthday set the foundation for all the days that follow. We also know that federal and state legislation impacts how the first 1\,000 are shaped for Kansas families. Join us for an action-packed webinar that dives into federal and state legislation being considered that supports the first 1\,000 days. Hear from experts with their ear to the ground about what this legislation does\, and how you can take action. \nAgenda \n9:00 – 9:02       Welcome \n9:02 – 9:07       Introduction to First 1\,000 Days Kansas \n9:07 – 9:17       Federal Policy Spotlight – Community Catalyst\, Jessie Zimmerer \n9:17 – 9:27       State Policy Spotlight – John Wilson\, Kansas Action for Children \n9:27 – 9:30       Next Steps/Adjourn \n  \nRegister here
URL:https://first1000daysks.org/event/federal-state-first-fridays-policy-updates-may/
LOCATION:KS
END:VEVENT
BEGIN:VEVENT
DTSTART;TZID=America/Chicago:20220401T090000
DTEND;TZID=America/Chicago:20220401T093000
DTSTAMP:20260424T081531
CREATED:20211231T194544Z
LAST-MODIFIED:20220321T200822Z
UID:243-1648803600-1648805400@first1000daysks.org
SUMMARY:Federal & State First Fridays Policy Updates
DESCRIPTION:We know the first 1\,000 days between a woman’s pregnancy and her child’s second birthday set the foundation for all the days that follow. We also know that federal and state legislation impacts how the first 1\,000 are shaped for Kansas families. Join us for an action-packed webinar that dives into federal and state legislation being considered that supports the first 1\,000 days. Hear from experts with their ear to the ground about what this legislation does\, and how you can take action. \nNote: First 1\,000 Days Webinars will occur monthly from 9 to 9:30 am CST on the first Friday of every month. \nAgenda \n9:00 – 9:02       Welcome \n9:02 – 9:07       Introduction to First 1\,000 Days Kansas \n9:07 – 9:17       Federal Policy Spotlight – Pregnant Workers Fairness Act\, Sarah Brafman \n9:17 – 9:27       State Policy Spotlight – Early Childhood Issues – Senator Pat Pettey \n9:27 – 9:30       Next Steps/Adjourn \nRegister here
URL:https://first1000daysks.org/event/federal-state-first-fridays-policy-updates-april/
LOCATION:KS
END:VEVENT
BEGIN:VEVENT
DTSTART;TZID=America/Chicago:20220304T090000
DTEND;TZID=America/Chicago:20220304T093000
DTSTAMP:20260424T081531
CREATED:20211231T193924Z
LAST-MODIFIED:20220224T165015Z
UID:236-1646384400-1646386200@first1000daysks.org
SUMMARY:Federal & State First Fridays Policy Updates
DESCRIPTION:We know the first 1\,000 days between a woman’s pregnancy and her child’s second birthday set the foundation for all the days that follow. We also know that federal and state legislation impacts how the first 1\,000 are shaped for Kansas families. Join us for an action-packed webinar that dives into federal and state legislation being considered that supports the first 1\,000 days. Hear from experts with their ear to the ground about what this legislation does\, and how you can take action. \nAgenda \n9:00 – 9:05      Welcome \n9:05 – 9:15      PUMP Act for Nursing Mothers Update\, Tina Sherman\, Senior Campaign Director at MomsRising  \n9:15 – 9:25      State Policy Spotlight: Legislative Session Update\, Senator Dinah Sykes\, Kansas Senate Minority Leader \n9:25 – 9:30       Next Steps/Adjourn \n  \nRegister here
URL:https://first1000daysks.org/event/federal-and-state-first-fridays-policy-updates-3/
LOCATION:KS
END:VEVENT
BEGIN:VEVENT
DTSTART;TZID=America/Chicago:20220204T090000
DTEND;TZID=America/Chicago:20220204T093000
DTSTAMP:20260424T081531
CREATED:20211231T145935Z
LAST-MODIFIED:20220202T181849Z
UID:195-1643965200-1643967000@first1000daysks.org
SUMMARY:Federal & State First Fridays Policy Updates (February)
DESCRIPTION:We know the first 1\,000 days between a woman’s pregnancy and her child’s second birthday set the foundation for all the days that follow. We also know that federal and state legislation impacts how the first 1\,000 are shaped for Kansas families. Join us for an action-packed webinar that dives into federal and state legislation being considered that supports the first 1\,000 days. Hear from experts with their ear to the ground about what this legislation does\, and how you can take action. \n  \nAgenda \n9:00 – 9:02         Welcome – Ashley Jones-Wisner\, 1\,000 Days Campaign Consultant \n9:02 – 9:07       Introduction to First 1\,000 Days Kansas – Brenda Bandy and Jennie Toland\, Kansas Breastfeeding Coalition Co-Executive Directors \n9:07 – 9:17       Federal Policy Spotlight – Pregnant Workers Fairness Act\, Sarah Brafman \n9:17 – 9:27       State Policy Spotlight – Extending Postpartum Medicaid Coverage – David Jordan\, United Methodist Health Ministry Fund \n9:27 – 9:30       Next Steps/Adjourn – Ashley Jones-Wisner \n  \nRegister here\n  \nNote: First 1\,000 Days Webinars will occur monthly\, January-May\, from 9 to 9:30 am CST on the first Friday of every month.
URL:https://first1000daysks.org/event/federal-and-state-first-fridays-policy-updates-2/
LOCATION:KS
END:VEVENT
BEGIN:VEVENT
DTSTART;TZID=America/Chicago:20220107T090000
DTEND;TZID=America/Chicago:20220107T093000
DTSTAMP:20260424T081531
CREATED:20211231T145216Z
LAST-MODIFIED:20211231T194315Z
UID:191-1641546000-1641547800@first1000daysks.org
SUMMARY:Federal & State First Fridays Policy Updates (January)
DESCRIPTION:We know the first 1\,000 days between a woman’s pregnancy and her child’s second birthday set the foundation for all the days that follow. We also know that federal and state legislation impacts how the first 1\,000 are shaped for Kansas families. Join us for an action-packed webinar that dives into federal and state legislation being considered that supports the first 1\,000 days. Hear from experts with their ear to the ground about what this legislation does\, and how you can take action. \nNote: First 1\,000 Days Webinars will occur monthly\, January-May\, from 9 to 9:30 am CST on the first Friday of every month. (Meeting dates: January 7\, February 4\, March 4\, April 1\, May 6) \nJan. 7th Agenda: \n\nFederal Policy Spotlight: Paid Family & Medical Leave – Vicki Shabo\, Senior Fellow\, Paid Leave Policy and Strategy\, New America\nState Partner Spotlight: KanCare Expansion – April Holman\, Executive Director\, Alliance for a Healthy Kansas\n\nRegister here
URL:https://first1000daysks.org/event/federal-and-state-first-fridays-policy-updates/
LOCATION:KS
END:VEVENT
END:VCALENDAR