BEGIN:VCALENDAR
VERSION:2.0
PRODID:-//First 1000 Days Kansas - ECPv6.15.0//NONSGML v1.0//EN
CALSCALE:GREGORIAN
METHOD:PUBLISH
X-WR-CALNAME:First 1000 Days Kansas
X-ORIGINAL-URL:https://first1000daysks.org
X-WR-CALDESC:Events for First 1000 Days Kansas
REFRESH-INTERVAL;VALUE=DURATION:PT1H
X-Robots-Tag:noindex
X-PUBLISHED-TTL:PT1H
BEGIN:VTIMEZONE
TZID:UTC
BEGIN:STANDARD
TZOFFSETFROM:+0000
TZOFFSETTO:+0000
TZNAME:UTC
DTSTART:20250101T000000
END:STANDARD
END:VTIMEZONE
BEGIN:VEVENT
DTSTART;TZID=UTC:20251009T120000
DTEND;TZID=UTC:20251009T130000
DTSTAMP:20260423T083103
CREATED:20251003T133922Z
LAST-MODIFIED:20251003T133922Z
UID:1186-1760011200-1760014800@first1000daysks.org
SUMMARY:Paid Leave 101: Online Webinar
DESCRIPTION:Hear the latest research about the impacts of a state paid leave program on businesses. Learn how a self-funded state paid leave program could work for Kansas businesses and families. \n  \nRegister Here
URL:https://first1000daysks.org/event/paid-leave-101-online-webinar/
ATTACH;FMTTYPE=image/png:https://first1000daysks.org/wp-content/uploads/2025/10/Facebook-Event-1.png
END:VEVENT
END:VCALENDAR